BEGIN:VCALENDAR
CALSCALE:GREGORIAN
METHOD:PUBLISH
PRODID:-//185.25.166.209//NONSGML iCalcreator 2.6//
VERSION:2.0
UNIQUE_ID:session381@Hilshof.de
X-WR-TIMEZONE:Europe/Berlin
BEGIN:VEVENT
UID:event381-381@Hilshof.de
DTSTAMP:20260423T155030Z
CATEGORIES:Drachenacker
DESCRIPTION:Hofführung\nKategorie: Drachenacker\nLink: https://www.hilshof
 .de/index.php?option=com_redevent&view=details&id=116:hofführung&xref=381
 &Itemid=15\n
DTSTART;TZID=Europe/Berlin:20170527T150000
DTEND;TZID=Europe/Berlin:20170527T163000
LOCATION:Hilshof in Winternam\,Winternam 132\,Kerken
SUMMARY:Hofführung
URL:https://www.hilshof.de/index.php?option=com_redevent&view=details&id=11
 6:hofführung&xref=381&Itemid=15
END:VEVENT
END:VCALENDAR
