BEGIN:VCALENDAR
CALSCALE:GREGORIAN
METHOD:PUBLISH
PRODID:-//185.25.166.209//NONSGML iCalcreator 2.6//
VERSION:2.0
UNIQUE_ID:session19@Hilshof.de
X-WR-TIMEZONE:Europe/Berlin
BEGIN:VEVENT
UID:event19-19@Hilshof.de
DTSTAMP:20260422T201957Z
CATEGORIES:Drachengrün
DESCRIPTION:Wilde Bienen stechen nicht - Praxisseminar\nKategorie: Dracheng
 rün\nLink: https://www.hilshof.de/index.php?option=com_redevent&view=deta
 ils&id=12:wildbienen&xref=19&Itemid=15\n
DTSTART;TZID=Europe/Berlin:20130615T110000
DTEND;TZID=Europe/Berlin:20130615T150000
LOCATION:Hilshof in Winternam\,Winternam 132\,Kerken
SUMMARY:Wilde Bienen stechen nicht - Praxisseminar
URL:https://www.hilshof.de/index.php?option=com_redevent&view=details&id=12
 :wildbienen&xref=19&Itemid=15
END:VEVENT
END:VCALENDAR
