BEGIN:VCALENDAR
CALSCALE:GREGORIAN
METHOD:PUBLISH
PRODID:-//185.25.166.209//NONSGML iCalcreator 2.6//
VERSION:2.0
UNIQUE_ID:session505@Hilshof.de
X-WR-TIMEZONE:Europe/Berlin
BEGIN:VEVENT
UID:event505-505@Hilshof.de
DTSTAMP:20260422T104117Z
CATEGORIES:Drachengrün
DESCRIPTION:Streuobstbäume pflanzen – Theorie & Praxis\nKategorie: Drach
 engrün\nLink: https://www.hilshof.de/index.php?option=com_redevent&view=d
 etails&id=144:obstbaumschnitt-an-hochstaemmen&xref=505&Itemid=15\n
DTSTART;TZID=Europe/Berlin:20191130T100000
DTEND;TZID=Europe/Berlin:20191130T160000
LOCATION:Hilshof in Winternam\,Winternam 132\,Kerken
SUMMARY:Streuobstbäume pflanzen – Theorie & Praxis
URL:https://www.hilshof.de/index.php?option=com_redevent&view=details&id=14
 4:obstbaumschnitt-an-hochstaemmen&xref=505&Itemid=15
END:VEVENT
END:VCALENDAR
