BEGIN:VCALENDAR
CALSCALE:GREGORIAN
METHOD:PUBLISH
PRODID:-//185.25.166.209//NONSGML iCalcreator 2.6//
VERSION:2.0
UNIQUE_ID:session201@Hilshof.de
X-WR-TIMEZONE:Europe/Berlin
BEGIN:VEVENT
UID:event201-201@Hilshof.de
DTSTAMP:20260420T190007Z
CATEGORIES:Drachenkinder
DESCRIPTION:Kinderwerkstatt: Vom Schaf zum Faden\nKategorie: Drachenkinder
 \nLink: https://www.hilshof.de/index.php?option=com_redevent&view=details&
 id=70:vom-schafzum-faden&xref=201&Itemid=144\n
DTSTART;TZID=Europe/Berlin:20150321T100000
DTEND;TZID=Europe/Berlin:20150321T130000
LOCATION:Hilshof in Winternam\,Winternam 132\,Kerken
SUMMARY:Kinderwerkstatt: Vom Schaf zum Faden
URL:https://www.hilshof.de/index.php?option=com_redevent&view=details&id=70
 :vom-schafzum-faden&xref=201&Itemid=144
END:VEVENT
END:VCALENDAR
