BEGIN:VCALENDAR
CALSCALE:GREGORIAN
METHOD:PUBLISH
PRODID:-//185.25.166.209//NONSGML iCalcreator 2.6//
VERSION:2.0
UNIQUE_ID:session288@Hilshof.de
X-WR-TIMEZONE:Europe/Berlin
BEGIN:VEVENT
UID:event288-288@Hilshof.de
DTSTAMP:20260421T120120Z
CATEGORIES:Drachenweisheit
DESCRIPTION:Korbflechtwochenende\nKategorie: Drachenweisheit\nLink: https:/
 /www.hilshof.de/index.php?option=com_redevent&view=details&id=17:korbflech
 twochenende&xref=288&Itemid=6\n
DTSTART;TZID=Europe/Berlin:20161203T100000
DTEND;TZID=Europe/Berlin:20161204T150000
LOCATION:Hilshof in Winternam\,Winternam 132\,Kerken
SUMMARY:Korbflechtwochenende
URL:https://www.hilshof.de/index.php?option=com_redevent&view=details&id=17
 :korbflechtwochenende&xref=288&Itemid=6
END:VEVENT
END:VCALENDAR
