BEGIN:VCALENDAR
CALSCALE:GREGORIAN
METHOD:PUBLISH
PRODID:-//185.25.166.209//NONSGML iCalcreator 2.6//
VERSION:2.0
UNIQUE_ID:session39@Hilshof.de
X-WR-TIMEZONE:Europe/Berlin
BEGIN:VEVENT
UID:event39-39@Hilshof.de
DTSTAMP:20260423T091233Z
CATEGORIES:Drachenweisheit
DESCRIPTION:Korbflechtwochenende - Korbflechtwochenende Samstag\nKategorie:
  Drachenweisheit\nLink: https://www.hilshof.de/index.php?option=com_redeve
 nt&view=details&id=17:korbflechtwochenende&xref=39&Itemid=6\n
DTSTART;TZID=Europe/Berlin:20121110T100000
DTEND;TZID=Europe/Berlin:20121110T150000
LOCATION:Hilshof in Winternam\,Winternam 132\,Kerken
SUMMARY:Korbflechtwochenende - Korbflechtwochenende Samstag
URL:https://www.hilshof.de/index.php?option=com_redevent&view=details&id=17
 :korbflechtwochenende&xref=39&Itemid=6
END:VEVENT
END:VCALENDAR
